BEGIN:VCALENDAR
VERSION:2.0
PRODID:-//UNC Career Hub - ECPv6.15.18//NONSGML v1.0//EN
CALSCALE:GREGORIAN
METHOD:PUBLISH
X-ORIGINAL-URL:https://careerhub.unc.edu
X-WR-CALDESC:Events for UNC Career Hub
REFRESH-INTERVAL;VALUE=DURATION:PT1H
X-Robots-Tag:noindex
X-PUBLISHED-TTL:PT1H
BEGIN:VTIMEZONE
TZID:America/New_York
BEGIN:DAYLIGHT
TZOFFSETFROM:-0500
TZOFFSETTO:-0400
TZNAME:EDT
DTSTART:20250309T070000
END:DAYLIGHT
BEGIN:STANDARD
TZOFFSETFROM:-0400
TZOFFSETTO:-0500
TZNAME:EST
DTSTART:20251102T060000
END:STANDARD
BEGIN:DAYLIGHT
TZOFFSETFROM:-0500
TZOFFSETTO:-0400
TZNAME:EDT
DTSTART:20260308T070000
END:DAYLIGHT
BEGIN:STANDARD
TZOFFSETFROM:-0400
TZOFFSETTO:-0500
TZNAME:EST
DTSTART:20261101T060000
END:STANDARD
BEGIN:DAYLIGHT
TZOFFSETFROM:-0500
TZOFFSETTO:-0400
TZNAME:EDT
DTSTART:20270314T070000
END:DAYLIGHT
BEGIN:STANDARD
TZOFFSETFROM:-0400
TZOFFSETTO:-0500
TZNAME:EST
DTSTART:20271107T060000
END:STANDARD
END:VTIMEZONE
BEGIN:VEVENT
DTSTART;TZID=America/New_York:20260323T180000
DTEND;TZID=America/New_York:20260323T190000
DTSTAMP:20260421T102531
CREATED:20260101T104729Z
LAST-MODIFIED:20260323T185049Z
UID:10002345-1774288800-1774292400@careerhub.unc.edu
SUMMARY:Major & Career Exploration
DESCRIPTION:Unsure about your major or future career path? This workshop will help you learn more about how to explore your interests\, values\, and skills to identify potential majors and career options that align with your goals.**NOTE: Students will not be admitted to the session 10+ minutes after the start time. To learn how to use Zoom at UNC-Chapel Hill\, please refer to Step-by-Step Guide Joining UNC Career Center’s Virtual Event – Copy.docx
URL:https://careerhub.unc.edu/event/major-career-exploration-3/
CATEGORIES:Guidance,Handshake
END:VEVENT
BEGIN:VEVENT
DTSTART;TZID=America/New_York:20260324T173000
DTEND;TZID=America/New_York:20260324T190000
DTSTAMP:20260421T102531
CREATED:20260226T211426Z
LAST-MODIFIED:20260324T140301Z
UID:10002823-1774373400-1774378800@careerhub.unc.edu
SUMMARY:Boston Children's Hospital Child Life Info Session
DESCRIPTION:Are you considering a career as a child life specialist?Are you interested in learning more about the child life field?Would you like information about the requirements and processfor becoming a child life specialist?If so\, we invite you to register for a virtual informational session* presented by child life staff at Boston Children’s Hospital. We’ll send you a link to a video to watch prior to joining us on Zoom.When: Tuesday\, March 24\, 2026Time: 5:30-7:00PMZoom link will be provided upon registration.  Please register by Sunday\, March 15th via flyer QR or link to sign up. *Please note: This session is not for credit and does not contribute towards orsatisfy any graduation or certification requirement. This is also not a job fair;we are not recruiting new staff for our department. We are unable to provideindividualized career counseling. This is an informational session only.
URL:https://careerhub.unc.edu/event/boston-childrens-hospital-child-life-info-session/
CATEGORIES:Guidance,Networking,Handshake
END:VEVENT
BEGIN:VEVENT
DTSTART;TZID=America/New_York:20260325T120000
DTEND;TZID=America/New_York:20260325T133000
DTSTAMP:20260421T102531
CREATED:20260217T204726Z
LAST-MODIFIED:20260324T140301Z
UID:10002772-1774440000-1774445400@careerhub.unc.edu
SUMMARY:A Day in the Life of a Data Analyst @ NVIDIA (Hosted by UNC Computer Science)
DESCRIPTION:THIS IS NOT AN NVIDIA RECRUITING EVENTWhat does a typical day actually look like in data at NVIDIA? Join this small-group working lunch with a UNC alum working in a people analytics/data-focused role at NVIDIA\, for an inside look at her career path and how data supports business strategy. Explore what a data analyst’s work looks like in a global tech company. Learn how analytics informs decision-making across teams. Ask candid questions about career pivots\, skill-building\, and navigating large organizations. Connect with a fellow Tar Heel working at the intersection of data and people strategy.
URL:https://careerhub.unc.edu/event/a-day-in-the-life-of-a-data-analyst-nvidia-hosted-by-unc-computer-science/
LOCATION:Chapel Hill\, NC 27514\, USA
CATEGORIES:Guidance,Handshake
END:VEVENT
BEGIN:VEVENT
DTSTART;TZID=America/New_York:20260325T120000
DTEND;TZID=America/New_York:20260325T153000
DTSTAMP:20260421T102531
CREATED:20260224T211421Z
LAST-MODIFIED:20260325T181025Z
UID:10002806-1774440000-1774452600@careerhub.unc.edu
SUMMARY:50 Days 'til Graduation: Mock Interview Blitz
DESCRIPTION:CLASS OF 2026 Get ready to sharpen your interview skills—fast. This interactive\, speed‑style interview event gives you the chance to rotate through five interview tables\, each featuring a different question type: Behavioral\, Situational\, Problem‑Solving\, Communication\, and Values.You’ll spend 3 minutes at each table\, respond to a real interview question\, and receive immediate feedback from campus and employer partners. By the end of your round\, you’ll walk away with a personalized feedback rubric and clear next steps to help you get interview‑ready.What to Expect: 15‑minute interview circuit (5 tables × 3 minutes each) Professional‑level interview questions appropriate for all majors Quick\, actionable feedback to build confidence Multiple rounds between 12–2 PM — RSVP required to secure your time slot Come as you are; no resume required (optional) Perfect for graduating seniors\, grad students\, and anyone who wants to get stronger at articulating their experiences in interviews.Spots are limited—reserve your round today!
URL:https://careerhub.unc.edu/event/50-days-til-graduation-mock-interview-blitz/
LOCATION:Chapel Hill\, North Carolina 27514\, USA
CATEGORIES:Guidance,Handshake
END:VEVENT
BEGIN:VEVENT
DTSTART;TZID=America/New_York:20260325T160000
DTEND;TZID=America/New_York:20260325T170000
DTSTAMP:20260421T102531
CREATED:20260323T185050Z
LAST-MODIFIED:20260325T181025Z
UID:10002867-1774454400-1774458000@careerhub.unc.edu
SUMMARY:Leveling Up LinkedIn Working Group
DESCRIPTION:Unlock the power of LinkedIn to build your professional brand! Learn how to create a standout profile\, connect with industry professionals\, and use LinkedIn to find jobs\, internships\, and networking opportunities. You will update your profile during this interactive working session with opportunities to get feedback on how to best use LinkedIn to put your best foot forward!
URL:https://careerhub.unc.edu/event/leveling-up-linkedin-working-group-6/
LOCATION:Chapel Hill\, North Carolina 27514\, USA
CATEGORIES:Guidance,Handshake
END:VEVENT
BEGIN:VEVENT
DTSTART;TZID=America/New_York:20260325T180000
DTEND;TZID=America/New_York:20260325T193000
DTSTAMP:20260421T102531
CREATED:20260217T204726Z
LAST-MODIFIED:20260325T181025Z
UID:10002773-1774461600-1774467000@careerhub.unc.edu
SUMMARY:NVIDIA Panel:  AI\, Product\, & Data Science Event @ UNC Computer Science
DESCRIPTION:THIS IS NOT AN NVIDIA RECRUITING EVENTInterested in building at the forefront of AI and data-driven innovation? Join NVIDIA professionals across product management\, AI\, data science\, and applied AI research for a candid conversation about their roles\, career paths\, and how students can break into the field. Hear from leaders in Product Management\, AI\, Data Science\, and Applied AI Research. Learn how technical and non-technical roles collaborate to bring AI products to life. Gain insight into what NVIDIA looks for in early-career talent. Ask questions about breaking into AI\, research\, and data-focused roles. The event will start as lightning talks and then open up for an interactive Q&A Fonda IngramWhat happens when engineers become conductors—no longer just building systems\, but orchestrating how it all comes together?  I’ll discuss the identity shift of “Broader vs. Deeper: Navigating the Transition from Developer to Technical Program Management”.  I’ll also share challenges like balancing technical depth with strategic oversight and what it means to be a motivational enabler.  Erick GalinkinA lot seems to have changed in the age of agentic AI from a security perspective — new threats like prompt injection\, agent flow hijacking\, and others continue to emerge. Despite these changes\, many traditional cybersecurity best practices are still extremely effective. We’ll discuss how these agents can be attacked and practical steps for defending against these attacks. Megan HinelineAs a People Data Analyst\, I spend my time turning messy HR data into reliable insights that help leaders make better decisions about their teams. I will walk through how I partner with stakeholders to sharpen their questions\, validate and automate the ETL behind the scenes\, and design repeatable reporting that tells a clear story. I will also share the challenges of balancing data quality with speed\, and what it looks like to be a translator between technical data work and real people decisions.Israel Silva Dias Driving into the void – designing machines for markets that don’t exist. Supplier scarcity\, cost fluctuations\, long development cycles\, lead times\, regulatory changes\, geopolitics\, and most of all\, near-weekly revolutions in software requirements – how to drive a hardware programme in a fast-changing environment?
URL:https://careerhub.unc.edu/event/nvidia-career-panel-ai-product-data-science-event-unc-computer-science/
LOCATION:Chapel Hill\, NC 27514\, USA
CATEGORIES:Guidance,Handshake
END:VEVENT
BEGIN:VEVENT
DTSTART;TZID=America/New_York:20260326T110000
DTEND;TZID=America/New_York:20260326T114500
DTSTAMP:20260421T102531
CREATED:20260219T204727Z
LAST-MODIFIED:20260326T133606Z
UID:10002783-1774522800-1774525500@careerhub.unc.edu
SUMMARY:Real Talk: What I Wish I Knew Before My First Internship/Job
DESCRIPTION:Starting your first internship or full-time job can feel like a mix of excitement and uncertainty. In this panel discussion\, Truist teammates will share their experiences about what they wish they had known before diving into the corporate space. From navigating workplace culture and managing expectations\, to finding balance and developing key skills\, you’ll gain valuable insights that can help you feel more prepared and confident in your career journey. 
URL:https://careerhub.unc.edu/event/real-talk-what-i-wish-i-knew-before-my-first-internship-job/
CATEGORIES:Guidance,Handshake
END:VEVENT
BEGIN:VEVENT
DTSTART;TZID=America/New_York:20260326T133000
DTEND;TZID=America/New_York:20260326T143000
DTSTAMP:20260421T102531
CREATED:20260324T140302Z
LAST-MODIFIED:20260326T133606Z
UID:10002898-1774531800-1774535400@careerhub.unc.edu
SUMMARY:Context Engineering for students: Making IBM Granite your academic co-pilot
DESCRIPTION:Add context and turn AI into your competitive advantage in academia and beyond instead of using generic prompts and getting generic results? Join #IBMSkillsBuild and Igor Pogany\, AI educator and entrepreneur\, to discover how Context engineering can transform IBM Granite into your ultimate academic co-pilot.🗓 March 26\, 2026🕗 5:30PM GMT (1:30pmET)What you’ll learn:- Why context is the key to get better AI results- How to tailor AI for your personal goals- Context-rich prompts for research\, job prep\, and accelerated learningBonus: Get a free watsonx.ai account for hands-on practice!Don’t miss out! Reserve your spot today and start making AI work for you.
URL:https://careerhub.unc.edu/event/context-engineering-for-students-making-ibm-granite-your-academic-co-pilot/
CATEGORIES:Guidance,Handshake
END:VEVENT
BEGIN:VEVENT
DTSTART;TZID=America/New_York:20260326T160000
DTEND;TZID=America/New_York:20260326T170000
DTSTAMP:20260421T102531
CREATED:20260303T212926Z
LAST-MODIFIED:20260326T133607Z
UID:10002845-1774540800-1774544400@careerhub.unc.edu
SUMMARY:Disney Data & Analytics Women (DDAW) 2026 Award Informational Webinar
DESCRIPTION:The Disney Data & Analytics Conference (DDAC)\, in conjunction with Disney Data & Analytics Women\, promotes women’s experiences in technical and analytical fields. This award gives winners the opportunity to attend DDAC 2026 and experience a tailored program that celebrates women in analytics. DDAC 2026 | September 13 through 17\, 2026Learn more at an informational webinar on March 26\, 2026\, 4:00 PM ET. Visit our website at https://disneydataconference.com/ddaw/ and register for the webinar!DEADLINE TO APPLY FOR THE AWARD: APRIL 19\, 2026 @ 2:59 AM ET Minimum GPA of 3.5Current undergraduate or graduate student\, or graduated as of December 1\, 2025 or later.18 years or olderLegal resident of continental U.S.
URL:https://careerhub.unc.edu/event/disney-data-analytics-women-ddaw-2026-award-informational-webinar/
CATEGORIES:Guidance,Handshake
END:VEVENT
BEGIN:VEVENT
DTSTART;TZID=America/New_York:20260326T160000
DTEND;TZID=America/New_York:20260326T170000
DTSTAMP:20260421T102531
CREATED:20260323T185051Z
LAST-MODIFIED:20260326T133606Z
UID:10002871-1774540800-1774544400@careerhub.unc.edu
SUMMARY:Rethinking the Classroom: Mastering Critical Thinking in the Age of AI
DESCRIPTION:Can AI help you think smarter and expand your possibilities?​​Join #IBMSkillsBuild and Jeff Crume\, educator and AI thought leader at IBM\, for a live webinar designed for university students and faculty who want to stay ahead the curve.​What you’ll learn:​- A fresh perspective on how AI is reshaping education​- Practical strategies to use AI for critical thinking​- Live demos using IBM Granite Playground for argument analysis and debate​- A look at how AI is transforming the future of work​Don’t miss this chance to rethink how you learn. Reserve your spot today!
URL:https://careerhub.unc.edu/event/rethinking-the-classroom-mastering-critical-thinking-in-the-age-of-ai/
CATEGORIES:Guidance,Handshake
END:VEVENT
BEGIN:VEVENT
DTSTART;TZID=America/New_York:20260326T160000
DTEND;TZID=America/New_York:20260326T170000
DTSTAMP:20260421T102531
CREATED:20260323T185051Z
LAST-MODIFIED:20260326T133607Z
UID:10002872-1774540800-1774544400@careerhub.unc.edu
SUMMARY:The Power to Trust the Team
DESCRIPTION:Join this session to gain insight from different line of business representatives as they share both individual and firm success. Through real-world examples\, you will discover how these leaders stepped up to success through mentorship\, team collaboration\, and more.Virtual informational session – meeting link will be shared to registered attendees Please apply here:https://bankcampuscareers.tal.net/vx/spa-1/candidate/post/6018/en-GB
URL:https://careerhub.unc.edu/event/the-power-to-trust-the-team/
CATEGORIES:Guidance,Networking,Handshake
END:VEVENT
BEGIN:VEVENT
DTSTART;TZID=America/New_York:20260326T161500
DTEND;TZID=America/New_York:20260326T171500
DTSTAMP:20260421T102531
CREATED:20260222T211816Z
LAST-MODIFIED:20260326T133606Z
UID:10002794-1774541700-1774545300@careerhub.unc.edu
SUMMARY:So You’re Thinking About Grad School...
DESCRIPTION:Are you considering graduate school but unsure where to start? Join us for an informative workshop that provides a general overview of graduate programs\, the application process\, and best practices for preparing during your undergraduate years.We’ll cover different types of graduate programs\, including master’s and PhD options\, as well as key steps in organizing your applications\, researching schools\, and securing funding.Ideal for students exploring academic and research-based programs\, this workshop will help you confidently navigate the grad school journey. If you’re thinking about pursuing graduate studies\, this session is for you!  **NOTE: Students will not be admitted to the session 10+ minutes after the start time. To learn how to use Zoom at UNC-Chapel Hill\, please refer to Step-by-Step Guide Joining UNC Career Center’s Virtual Event – Copy.docx
URL:https://careerhub.unc.edu/event/so-youre-thinking-about-grad-school-4/
CATEGORIES:Guidance,Handshake
END:VEVENT
BEGIN:VEVENT
DTSTART;TZID=America/New_York:20260327T120000
DTEND;TZID=America/New_York:20260327T124500
DTSTAMP:20260421T102531
CREATED:20260323T185051Z
LAST-MODIFIED:20260327T130159Z
UID:10002874-1774612800-1774615500@careerhub.unc.edu
SUMMARY:POV: I’m Reading Your Resume (Spring Virtual Webinar Series - Topic 1)
DESCRIPTION:Start Strong: Elevate Your Career Launch PackA Spring Webinar SeriesThe spring semester is the perfect time to build and refine the skills that will set you up for success in your career journey — and we’re here to help you do exactly that. Raymond James is a client‑focused global financial services company\, and careers here go far beyond financial advising. From public finance to technology and many paths in between\, our industry offers more opportunities than you might expect. We’re excited to help you explore those possibilities — because we’re a place where good people grow. About the SeriesStart Strong: Elevate Your Career Launch Pack is a virtual spring webinar series featuring six sessions across three topics. We offer each topic twice so you can choose the time that works best for you. Join one session per topic — and feel free to attend only the topics that interest you or fit your schedule. Together\, we’ll explore the essential insights\, skills\, and perspectives that can help set you apart as you launch your career in financial services. Topic & DatesPOV: I’m Reading Your ResumeEver wondered what a recruiter really sees when they open your resume? In this session\, we’ll show you what stands out\, what gets skipped\, and how quickly decisions are made. You’ll learn simple\, practical ways to make your resume catch attention in under eight seconds. March 18 — 4:00 to 4:45 PM (#1)March 27 — 12:00 to 12:45 PM (#2) How It Works Register for one session per topic at the date/time that works best for you. Each session is 45 minutes and hosted via Zoom. Sessions are interactive — be ready to come off mute\, discuss with peers and Raymond James associates\, and share your ideas! Our primary audience are freshmen and sophomores\, but all students are welcome.  Why Join? Learn what recruiters look for in resumes Discover how to network authentically Explore how AI can support your job search Gain insider tips from industry professionals  Register today and start building your Career Launch Pack!
URL:https://careerhub.unc.edu/event/pov-im-reading-your-resume-spring-virtual-webinar-series-topic-1/
CATEGORIES:Guidance,Networking,Handshake
END:VEVENT
BEGIN:VEVENT
DTSTART;TZID=America/New_York:20260327T120000
DTEND;TZID=America/New_York:20260327T133000
DTSTAMP:20260421T102531
CREATED:20251229T101625Z
LAST-MODIFIED:20260327T130159Z
UID:10002329-1774612800-1774618200@careerhub.unc.edu
SUMMARY:Pathway to Protiviti
DESCRIPTION:Pathway to ProtivitiKickstart your journey into the world of consulting with Pathway to Protiviti\, a dynamic virtual program designed exclusively for first-year students. Join us on March 27th from 12:00-1:30pm EST for an engaging session where you’ll: Build foundational skills in resume writing\, interview prep\, communication\, and teamwork Connect with Protiviti professionals and other students from across the country Get an inside look at Protiviti and the world of consulting Why attend?Pathway to Protiviti is your introduction to Protiviti and the consulting industry. By participating\, you’ll stay connected with us and be among the first to hear about future opportunities\, like our Discover program\, which offers a deeper dive into consulting for students further along in their academic journey.Ready to take the first step toward your future?Secure your spot now. Registration is quick and easy.  Register HERE to attend!
URL:https://careerhub.unc.edu/event/pathway-to-protiviti/
CATEGORIES:Guidance,Employers,Handshake
END:VEVENT
BEGIN:VEVENT
DTSTART;TZID=America/New_York:20260327T130000
DTEND;TZID=America/New_York:20260327T140000
DTSTAMP:20260421T102531
CREATED:20260323T185051Z
LAST-MODIFIED:20260327T130159Z
UID:10002875-1774616400-1774620000@careerhub.unc.edu
SUMMARY:Resume 101 & Cover Letters
DESCRIPTION:Not sure where to start with your resume? Resume 101 will guide you through the basics of formatting\, content\, and tailoring your resume to highlight your skills and experiences\, ensuring it catches an employer’s attention.
URL:https://careerhub.unc.edu/event/resume-101-cover-letters-20/
CATEGORIES:Guidance,Handshake
END:VEVENT
END:VCALENDAR