BEGIN:VCALENDAR
VERSION:2.0
PRODID:-//UNC Career Hub - ECPv6.15.18//NONSGML v1.0//EN
CALSCALE:GREGORIAN
METHOD:PUBLISH
X-WR-CALNAME:UNC Career Hub
X-ORIGINAL-URL:https://careerhub.unc.edu
X-WR-CALDESC:Events for UNC Career Hub
REFRESH-INTERVAL;VALUE=DURATION:PT1H
X-Robots-Tag:noindex
X-PUBLISHED-TTL:PT1H
BEGIN:VTIMEZONE
TZID:America/New_York
BEGIN:DAYLIGHT
TZOFFSETFROM:-0500
TZOFFSETTO:-0400
TZNAME:EDT
DTSTART:20250309T070000
END:DAYLIGHT
BEGIN:STANDARD
TZOFFSETFROM:-0400
TZOFFSETTO:-0500
TZNAME:EST
DTSTART:20251102T060000
END:STANDARD
BEGIN:DAYLIGHT
TZOFFSETFROM:-0500
TZOFFSETTO:-0400
TZNAME:EDT
DTSTART:20260308T070000
END:DAYLIGHT
BEGIN:STANDARD
TZOFFSETFROM:-0400
TZOFFSETTO:-0500
TZNAME:EST
DTSTART:20261101T060000
END:STANDARD
BEGIN:DAYLIGHT
TZOFFSETFROM:-0500
TZOFFSETTO:-0400
TZNAME:EDT
DTSTART:20270314T070000
END:DAYLIGHT
BEGIN:STANDARD
TZOFFSETFROM:-0400
TZOFFSETTO:-0500
TZNAME:EST
DTSTART:20271107T060000
END:STANDARD
END:VTIMEZONE
BEGIN:VEVENT
DTSTART;TZID=America/New_York:20260407T110000
DTEND;TZID=America/New_York:20260407T120000
DTSTAMP:20260421T112453
CREATED:20260108T161938Z
LAST-MODIFIED:20260216T213135Z
UID:10002410-1775559600-1775563200@careerhub.unc.edu
SUMMARY:Resume 201: Advanced Resume Writing
DESCRIPTION:Take your resume to the next level in Resume 201! Learn advanced techniques for crafting targeted resumes and showcasing achievements that set you apart in competitive industries.\nIF JOINING VIRTUALLY ON 2/5\, 3/30\, OR 4/7: Students will not be admitted to the session 10+ minutes after the start time. To learn how to use Zoom at UNC-Chapel Hill\, please refer to Step-by-Step Guide Joining UNC Career Center’s Virtual Event – Copy.docx\nHosted by: University Career Services\nOnline Location: https://unc.zoom.us/j/97972513033\nAdditional Information can be found at: https://heellife.unc.edu/event/11987595
URL:https://careerhub.unc.edu/event/resume-201-advanced-resume-writing-12/
LOCATION:Online
CATEGORIES:Career Exploration & Development,Social
END:VEVENT
BEGIN:VEVENT
DTSTART;TZID=America/New_York:20260406T190000
DTEND;TZID=America/New_York:20260406T220000
DTSTAMP:20260421T112453
CREATED:20260216T213135Z
LAST-MODIFIED:20260216T213135Z
UID:10002750-1775502000-1775512800@careerhub.unc.edu
SUMMARY:Joy Prom 2026
DESCRIPTION:We have very exciting news! Joy Prom 2026 will be held on Monday\, April 6th\, from 7:00 PM to 10:00 PM at the Sheraton Chapel Hill Hotel (One Europa Dr\, Chapel Hill\, NC 27517). Register here: https://forms.gle/2B2SWg4wqQDUAXdo6. Need a ride? We got you covered\, you can request on here: https://forms.gle/uaDvrkWHqkCtjKw47. Read below to learn more about the event. We can’t wait to dance the night away with you on April 6th!\n \nJoy Prom is a prom-like experience in which all members of our communities are celebrated for who they are. This is our pinnacle event of the year and one in which we can all come together in a celebration of inclusion. We will have lots of music\, dancing\, entertainment\, pictures\, and food for everyone to enjoy! Best of all\, and because of our generous community partners\, this event is completely free!\n \nMost people choose to dress formally\, but feel free to dress however you feel comfortable! This event is also open to the public\, and we encourage you to spread the word to anyone else you know who may be interested in attending the event.\n \nFinally\, this event wouldn’t be possible without our volunteers! If you are interested in volunteering for this event\, please complete this form: https://forms.gle/7gFq3SX4WEtDhzjg6. \n \nIf you have any questions or concerns\, please reach out to us at uncbestbuds@gmail.com.\nHosted by: Campus Y: Best Buddies\nAdditional Information can be found at: https://heellife.unc.edu/event/12243044
URL:https://careerhub.unc.edu/event/joy-prom-2026/
LOCATION:Sheraton Chapel Hill Hotel
CATEGORIES:Career Exploration & Development,Social
END:VEVENT
BEGIN:VEVENT
DTSTART;TZID=America/New_York:20260406T180000
DTEND;TZID=America/New_York:20260406T190000
DTSTAMP:20260421T112453
CREATED:20260108T161938Z
LAST-MODIFIED:20260216T213134Z
UID:10002409-1775498400-1775502000@careerhub.unc.edu
SUMMARY:Resume 101 & Cover Letters
DESCRIPTION:Not sure where to start with your resume? Resume 101 will guide you through the basics of formatting\, content\, and tailoring your resume to highlight your skills and experiences\, ensuring it catches an employer’s attention.\nIF JOINING VIRTUAL SESSION ON 2/2\, 3/2\, or 4/6: Students will not be admitted to the session 10+ minutes after the start time. To learn how to use Zoom at UNC-Chapel Hill\, please refer to Step-by-Step Guide Joining UNC Career Center’s Virtual Event – Copy.docx\nHosted by: University Career Services\nAdditional Information can be found at: https://heellife.unc.edu/event/11987552
URL:https://careerhub.unc.edu/event/resume-101-cover-letters-13/
LOCATION:Online
CATEGORIES:Career Exploration & Development,Social
END:VEVENT
BEGIN:VEVENT
DTSTART;TZID=America/New_York:20260330T130000
DTEND;TZID=America/New_York:20260330T140000
DTSTAMP:20260421T112453
CREATED:20260108T161937Z
LAST-MODIFIED:20260216T213134Z
UID:10002408-1774875600-1774879200@careerhub.unc.edu
SUMMARY:Resume 201: Advanced Resume Writing
DESCRIPTION:Take your resume to the next level in Resume 201! Learn advanced techniques for crafting targeted resumes and showcasing achievements that set you apart in competitive industries.\nIF JOINING VIRTUALLY ON 2/5\, 3/30\, OR 4/7: Students will not be admitted to the session 10+ minutes after the start time. To learn how to use Zoom at UNC-Chapel Hill\, please refer to Step-by-Step Guide Joining UNC Career Center’s Virtual Event – Copy.docx\nHosted by: University Career Services\nOnline Location: https://unc.zoom.us/j/97972513033\nAdditional Information can be found at: https://heellife.unc.edu/event/11987594
URL:https://careerhub.unc.edu/event/resume-201-advanced-resume-writing-11/
LOCATION:Online
CATEGORIES:Career Exploration & Development,Social
END:VEVENT
BEGIN:VEVENT
DTSTART;TZID=America/New_York:20260330T110000
DTEND;TZID=America/New_York:20260330T120000
DTSTAMP:20260421T112453
CREATED:20260108T161937Z
LAST-MODIFIED:20260216T213134Z
UID:10002407-1774868400-1774872000@careerhub.unc.edu
SUMMARY:International Student Job Search
DESCRIPTION:This presentation was designed for international students who want to navigate the career landscape when searching for both internships and full-time job opportunities.  This workshop will talk about searching for both opportunities in the United State and searching for International Opportunities.  During the presentation\, we will talk about: Navigating Career Resources and Job Boards. Domestic Resumes and International Resumes.  Networking and Making Connections at the Career Fair. Creating a strong Elevator Pitch.  \nHosted by: University Career Services\nAdditional Information can be found at: https://heellife.unc.edu/event/11988030
URL:https://careerhub.unc.edu/event/international-student-job-search-6/
LOCATION:Hanes 239
CATEGORIES:Career Exploration & Development,Social
END:VEVENT
BEGIN:VEVENT
DTSTART;TZID=America/New_York:20260330T100000
DTEND;TZID=America/New_York:20260330T110000
DTSTAMP:20260421T112453
CREATED:20251230T143025Z
LAST-MODIFIED:20260216T213133Z
UID:10002331-1774864800-1774868400@careerhub.unc.edu
SUMMARY:Learn About Columbia University's M.S. in Sustainability Management Program
DESCRIPTION:Join us and learn about Columbia’s M.S. in Sustainability Management program.\nHosted by: University Career Services\nOnline Location: https://apply.sps.columbia.edu/register/?id=9147f02d-ead2-4abe-84f7-2b34b00ab816\nAdditional Information can be found at: https://heellife.unc.edu/event/11961799
URL:https://careerhub.unc.edu/event/learn-about-columbia-universitys-m-s-in-sustainability-management-program-2/
LOCATION:Online
CATEGORIES:Career Exploration & Development,Social
END:VEVENT
BEGIN:VEVENT
DTSTART;TZID=America/New_York:20260327T130000
DTEND;TZID=America/New_York:20260327T140000
DTSTAMP:20260421T112453
CREATED:20260110T163228Z
LAST-MODIFIED:20260216T213133Z
UID:10002429-1774616400-1774620000@careerhub.unc.edu
SUMMARY:Fine Arts Alumni Panel
DESCRIPTION:Join us for an engaging conversation with distinguished Fine Arts alumni as they reflect on their creative journeys beyond graduation. Panelists will share how their artistic training shaped their careers\, the challenges and opportunities they encountered in the professional world\, and the ways they continue to practice\, adapt\, and advocate for the arts.This panel offers current students and emerging artists an inside look at diverse career paths in the arts\, from studio practice and performance to interdisciplinary work\, education\, and creative industries. Attendees will gain practical insights\, personal perspectives\, and advice on navigating life as a working artist—while celebrating the lasting impact of a Fine Arts education.\nHosted by: University Career Services\nOnline Location: https://unc.zoom.us/j/98410782661\nAdditional Information can be found at: https://heellife.unc.edu/event/12002250
URL:https://careerhub.unc.edu/event/fine-arts-alumni-panel/
LOCATION:Online
CATEGORIES:Career Exploration & Development,Social
END:VEVENT
BEGIN:VEVENT
DTSTART;TZID=America/New_York:20260326T161500
DTEND;TZID=America/New_York:20260326T171500
DTSTAMP:20260421T112453
CREATED:20260108T161937Z
LAST-MODIFIED:20260216T213132Z
UID:10002406-1774541700-1774545300@careerhub.unc.edu
SUMMARY:So You’re Thinking About Grad School...
DESCRIPTION:Are you considering graduate school but unsure where to start? Join us for an informative workshop that provides a general overview of graduate programs\, the application process\, and best practices for preparing during your undergraduate years.\nWe’ll cover different types of graduate programs\, including master’s and PhD options\, as well as key steps in organizing your applications\, researching schools\, and securing funding.\nIdeal for students exploring academic and research-based programs\, this workshop will help you confidently navigate the grad school journey. If you’re thinking about pursuing graduate studies\, this session is for you! \n \n**NOTE: Students will not be admitted to the session 10+ minutes after the start time. To learn how to use Zoom at UNC-Chapel Hill\, please refer to Step-by-Step Guide Joining UNC Career Center’s Virtual Event – Copy.docx\nHosted by: University Career Services\nOnline Location: https://unc.zoom.us/j/97972513033\nAdditional Information can be found at: https://heellife.unc.edu/event/11988026
URL:https://careerhub.unc.edu/event/so-youre-thinking-about-grad-school-2/
LOCATION:Online
CATEGORIES:Career Exploration & Development,Social
END:VEVENT
BEGIN:VEVENT
DTSTART;TZID=America/New_York:20260325T160000
DTEND;TZID=America/New_York:20260325T170000
DTSTAMP:20260421T112453
CREATED:20260108T161937Z
LAST-MODIFIED:20260216T213132Z
UID:10002405-1774454400-1774458000@careerhub.unc.edu
SUMMARY:Leveling Up LinkedIn Working Group
DESCRIPTION:Unlock the power of LinkedIn to build your professional brand! Learn how to create a standout profile\, connect with industry professionals\, and use LinkedIn to find jobs\, internships\, and networking opportunities. You will update your profile during this interactive working session with opportunities to get feedback on how to best use LinkedIn to put your best foot forward!\nHosted by: University Career Services\nAdditional Information can be found at: https://heellife.unc.edu/event/11988013
URL:https://careerhub.unc.edu/event/leveling-up-linkedin-working-group-2/
LOCATION:Hanes 239
CATEGORIES:Career Exploration & Development,Social
END:VEVENT
BEGIN:VEVENT
DTSTART;TZID=America/New_York:20260323T180000
DTEND;TZID=America/New_York:20260323T190000
DTSTAMP:20260421T112453
CREATED:20260108T161936Z
LAST-MODIFIED:20260216T213132Z
UID:10002404-1774288800-1774292400@careerhub.unc.edu
SUMMARY:Major & Career Exploration
DESCRIPTION:Unsure about your major or future career path? This workshop will help you learn more about how to explore your interests\, values\, and skills to identify potential majors and career options that align with your goals.\n**NOTE: Students will not be admitted to the session 10+ minutes after the start time. To learn how to use Zoom at UNC-Chapel Hill\, please refer to Step-by-Step Guide Joining UNC Career Center’s Virtual Event – Copy.docx\nHosted by: University Career Services\nOnline Location: https://unc.zoom.us/j/97972513033\nAdditional Information can be found at: https://heellife.unc.edu/event/11987993
URL:https://careerhub.unc.edu/event/major-career-exploration-4/
LOCATION:Online
CATEGORIES:Career Exploration & Development,Social
END:VEVENT
END:VCALENDAR