BEGIN:VCALENDAR
VERSION:2.0
PRODID:-//UNC Career Hub - ECPv6.15.18//NONSGML v1.0//EN
CALSCALE:GREGORIAN
METHOD:PUBLISH
X-WR-CALNAME:UNC Career Hub
X-ORIGINAL-URL:https://careerhub.unc.edu
X-WR-CALDESC:Events for UNC Career Hub
REFRESH-INTERVAL;VALUE=DURATION:PT1H
X-Robots-Tag:noindex
X-PUBLISHED-TTL:PT1H
BEGIN:VTIMEZONE
TZID:America/New_York
BEGIN:DAYLIGHT
TZOFFSETFROM:-0500
TZOFFSETTO:-0400
TZNAME:EDT
DTSTART:20250309T070000
END:DAYLIGHT
BEGIN:STANDARD
TZOFFSETFROM:-0400
TZOFFSETTO:-0500
TZNAME:EST
DTSTART:20251102T060000
END:STANDARD
BEGIN:DAYLIGHT
TZOFFSETFROM:-0500
TZOFFSETTO:-0400
TZNAME:EDT
DTSTART:20260308T070000
END:DAYLIGHT
BEGIN:STANDARD
TZOFFSETFROM:-0400
TZOFFSETTO:-0500
TZNAME:EST
DTSTART:20261101T060000
END:STANDARD
BEGIN:DAYLIGHT
TZOFFSETFROM:-0500
TZOFFSETTO:-0400
TZNAME:EDT
DTSTART:20270314T070000
END:DAYLIGHT
BEGIN:STANDARD
TZOFFSETFROM:-0400
TZOFFSETTO:-0500
TZNAME:EST
DTSTART:20271107T060000
END:STANDARD
END:VTIMEZONE
BEGIN:VEVENT
DTSTART;TZID=America/New_York:20260324T200000
DTEND;TZID=America/New_York:20260324T210000
DTSTAMP:20260421T232434
CREATED:20260323T185050Z
LAST-MODIFIED:20260324T140301Z
UID:10002863-1774382400-1774386000@careerhub.unc.edu
SUMMARY:Insider Talk ft. Hulu
DESCRIPTION:Join us for a live conversation with Kate Sullivan\, a filmmaker and Emmy-nominated producer who’s worked with Hulu\, Disney\, Universal\, and Paramount. Kate will share her journey from early career experiences to producing and directing for top studios\, and give practical advice on what it really takes to succeed in entertainment. What you’ll learn: ✅ Insider look at a life as a producer at Hulu ✅ What creative careers in TV\, film\, and theater actually look like ✅ How projects go from idea to screen ✅ Skills and mindset that help emerging creatives stand out
URL:https://careerhub.unc.edu/event/insider-talk-ft-hulu/
CATEGORIES:Handshake,Employers
END:VEVENT
BEGIN:VEVENT
DTSTART;TZID=America/New_York:20260324T173000
DTEND;TZID=America/New_York:20260324T190000
DTSTAMP:20260421T232434
CREATED:20260226T211426Z
LAST-MODIFIED:20260324T140301Z
UID:10002823-1774373400-1774378800@careerhub.unc.edu
SUMMARY:Boston Children's Hospital Child Life Info Session
DESCRIPTION:Are you considering a career as a child life specialist?Are you interested in learning more about the child life field?Would you like information about the requirements and processfor becoming a child life specialist?If so\, we invite you to register for a virtual informational session* presented by child life staff at Boston Children’s Hospital. We’ll send you a link to a video to watch prior to joining us on Zoom.When: Tuesday\, March 24\, 2026Time: 5:30-7:00PMZoom link will be provided upon registration.  Please register by Sunday\, March 15th via flyer QR or link to sign up. *Please note: This session is not for credit and does not contribute towards orsatisfy any graduation or certification requirement. This is also not a job fair;we are not recruiting new staff for our department. We are unable to provideindividualized career counseling. This is an informational session only.
URL:https://careerhub.unc.edu/event/boston-childrens-hospital-child-life-info-session/
CATEGORIES:Networking,Handshake,Guidance
END:VEVENT
BEGIN:VEVENT
DTSTART;TZID=America/New_York:20260324T173000
DTEND;TZID=America/New_York:20260324T190000
DTSTAMP:20260421T232434
CREATED:20260224T211420Z
LAST-MODIFIED:20260324T140301Z
UID:10002805-1774373400-1774378800@careerhub.unc.edu
SUMMARY:Fifth Third Bank Info Session @ University North Carolina Chapel Hill
DESCRIPTION:Location: Bell Hall Room 2030Ready to be part of an energetic\, dynamic team? To make a positive impact on your community? To help improve lives with smart financial solutions? Regardless of your individual skills or interests\, Fifth Third Bank offers a wealth of employment opportunities. Join Fifth Third Bank for an information session and networking  to learn about their 2026 summer internship and meet with representatives and alumni from: Fixed Income Sales Investment Banking\, Financial Sponsors Group Consumer Investment Banking Healthcare Investment Banking Leverage Finance We offer students and recent graduates full-time\, internship and co-op opportunities with unparalleled business experience and the chance to contribute and grow. You’ll find targeted learning\, challenging assignments and plenty of feedback and coaching with a Fifth Third Bank career. You’ll also be participating in mentor relationships and engaging with bank leaders. There are lots of opportunities for team building\, social events and community involvement. Come build your skills\, relationships and a better future—for you and our customers.  
URL:https://careerhub.unc.edu/event/fifth-third-bank-info-session-university-north-carolina-chapel-hill/
CATEGORIES:Hiring,Handshake,Employers
END:VEVENT
BEGIN:VEVENT
DTSTART;TZID=America/New_York:20260324T160000
DTEND;TZID=America/New_York:20260324T170000
DTSTAMP:20260421T232434
CREATED:20260303T212926Z
LAST-MODIFIED:20260324T140301Z
UID:10002844-1774368000-1774371600@careerhub.unc.edu
SUMMARY:Citizens Spotlight: Internships & Standing Out in a Competitive Environment
DESCRIPTION:📣 Calling all Sophomores!Please join us for a virtual session focused on summer internship opportunities within investment banking and how to successfully navigate the recruiting process.Our Junior Banker Development Team will lead the discussion\, sharing insights on current industry trends and highlighting the skills and experiences that help candidates stand out in competitive recruiting environments. Students will also learn more about Citizens’ 2027 Investment Banking Summer Analyst program and upcoming recruiting process and timeline.This event is the final Citizens Spotlight session of the season\, and we look forward to engaging with students as we close out our virtual recruiting series.
URL:https://careerhub.unc.edu/event/citizens-spotlight-internships-standing-out-in-a-competitive-environment/
CATEGORIES:Hiring,Handshake,Employers
END:VEVENT
BEGIN:VEVENT
DTSTART;TZID=America/New_York:20260324T140000
DTEND;TZID=America/New_York:20260324T150000
DTSTAMP:20260421T232434
CREATED:20260323T185049Z
LAST-MODIFIED:20260324T140301Z
UID:10002862-1774360800-1774364400@careerhub.unc.edu
SUMMARY:Redefine your STEM Career\, Make It Meaningful!
DESCRIPTION:Redefine your STEM Career\, Make It Meaningful📅 March 24 | 🕚 11:00 AM – 12:00 PM PST | 📍 Virtual via ZoomReady to use your STEM background for something bigger than problem sets and lab reports? Join Cardinal Education for an engaging virtual info session and discover how math\, physics\, and analytical thinkers are building purpose-driven careers in educational consulting.In this session\, you’ll get an inside look at the Educational Consultant role where your technical expertise becomes a catalyst for student growth\, confidence\, and long-term achievement. This isn’t traditional tutoring. It’s high-impact mentorship designed to shape how students think\, learn\, and succeed.What You’ll ExploreBeyond the Classroom: Apply your STEM knowledge to develop students’ critical thinking\, independence\, and resilience.Consulting-Level Growth: Gain structured training in communication\, strategy\, and high-level advising.Dynamic Career Pathways: Ideal for educators\, graduate students\, recent graduates\, career changers\, and STEM professionals exploring meaningful work.Mission-Driven Team: Collaborate with experienced mentors in a supportive\, excellence-focused environment.Compensation & Benefits Highlights  Salary: $70\,000 – $90\,000/year  Performance Bonuses: Up to $2\,000/month (paid annually)  Time Off: 12 PTO days + 3 Sick Days  12-Month Completion Bonus: $2\,500 Medical & Transportation Reimbursements  Relocation Support: $2\,500 Moving Reimbursement 401(k) Eligibility 🌟 STEM Consultant Exclusive:$5\,000 Sign-On Bonus (with 12-month commitment)OPT applicants are welcome!If you’re looking for a career where analytical thinking meets real-world impact\, this session is for you.Reserve your spot and see how your STEM expertise can help shape the next generation of leaders.#STEMCareers #EducationConsulting #ImpactDrivenWork #CareersInEducation #STEMProfessionals #Hiring #InfoSession
URL:https://careerhub.unc.edu/event/redefine-your-stem-career-make-it-meaningful/
CATEGORIES:Handshake,Hiring
END:VEVENT
BEGIN:VEVENT
DTSTART;TZID=America/New_York:20260324T120000
DTEND;TZID=America/New_York:20260324T150000
DTSTAMP:20260421T232434
CREATED:20251224T223322Z
LAST-MODIFIED:20260324T140218Z
UID:10002325-1774353600-1774364400@careerhub.unc.edu
SUMMARY:UNC Career Center Health Professions & Schools Information Fair 2026
DESCRIPTION:Your future starts here! Talk with admissions reps\, get insider tips\, and plan your next move at our Health Professions & Schools Information Fair 2026! Registration is recommended but NOT required. Event Details: When: Tuesday\, March 24th\, 2026Where: Alumni Hall\, The Carolina Club (150 Stadium Dr.\, Chapel Hill\, NC 27514)   Time: 12-3PM ESTHow to Prepare: Itch to Pitch: Convey who you are\, what experiences you have\, and what you’re seeking in 30-60 seconds! Check out our Linktree to find our Elevator Pitch Guide. Dress to Impress: Wear professional attire to show you’re serious and prepared!Show What You Know: Research the employers that are attending on Handshake so you can see what roles they are hiring for\, ask relevant questions\, and stand out. Hand Away Your Resume: Print multiple copies of your resume so employers/schools can quite literally have it on file.
URL:https://careerhub.unc.edu/event/unc-career-center-health-professions-schools-information-fair-2026/
LOCATION:150 Stadium Drive\, Chapel Hill\, North Carolina 27514\, United States
CATEGORIES:Handshake,Career Fairs
END:VEVENT
BEGIN:VEVENT
DTSTART;TZID=America/New_York:20260323T180000
DTEND;TZID=America/New_York:20260323T190000
DTSTAMP:20260421T232434
CREATED:20260108T161936Z
LAST-MODIFIED:20260216T213132Z
UID:10002404-1774288800-1774292400@careerhub.unc.edu
SUMMARY:Major & Career Exploration
DESCRIPTION:Unsure about your major or future career path? This workshop will help you learn more about how to explore your interests\, values\, and skills to identify potential majors and career options that align with your goals.\n**NOTE: Students will not be admitted to the session 10+ minutes after the start time. To learn how to use Zoom at UNC-Chapel Hill\, please refer to Step-by-Step Guide Joining UNC Career Center’s Virtual Event – Copy.docx\nHosted by: University Career Services\nOnline Location: https://unc.zoom.us/j/97972513033\nAdditional Information can be found at: https://heellife.unc.edu/event/11987993
URL:https://careerhub.unc.edu/event/major-career-exploration-4/
LOCATION:Online
CATEGORIES:Career Exploration & Development,Social
END:VEVENT
BEGIN:VEVENT
DTSTART;TZID=America/New_York:20260323T180000
DTEND;TZID=America/New_York:20260323T190000
DTSTAMP:20260421T232434
CREATED:20260101T104729Z
LAST-MODIFIED:20260323T185049Z
UID:10002345-1774288800-1774292400@careerhub.unc.edu
SUMMARY:Major & Career Exploration
DESCRIPTION:Unsure about your major or future career path? This workshop will help you learn more about how to explore your interests\, values\, and skills to identify potential majors and career options that align with your goals.**NOTE: Students will not be admitted to the session 10+ minutes after the start time. To learn how to use Zoom at UNC-Chapel Hill\, please refer to Step-by-Step Guide Joining UNC Career Center’s Virtual Event – Copy.docx
URL:https://careerhub.unc.edu/event/major-career-exploration-3/
CATEGORIES:Handshake,Guidance
END:VEVENT
BEGIN:VEVENT
DTSTART;TZID=America/New_York:20260316T100000
DTEND;TZID=America/New_York:20260417T100000
DTSTAMP:20260421T232434
CREATED:20260302T211537Z
LAST-MODIFIED:20260320T083524Z
UID:10002841-1773655200-1776420000@careerhub.unc.edu
SUMMARY:CVS Health Student Mentorship Program Spring 2026
DESCRIPTION:Freshmen and Sophomore Undergraduates\,You’re invited to participate in the CVS Health 2026 Student Mentorship Program\, a virtual experience running from March 16 through April 17\, 2026.This year’s program pairs selected students with innovative\, knowledgeable CVS Health mentors exclusively within our Digital\, Data\, Analytics & Technology (DDAT) organization.If you’re interested in technology\, problem‑solving\, digital innovation\, data insights\, or shaping the future of health care\, this is a powerful opportunity to explore career paths within DDAT.As a mentee\, you’ll engage in one‑on‑one conversations\, build meaningful connections\, and gain valuable insight into CVS Health’s culture and the transformative DDAT work that powers our business. You’ll also learn how our caring teams collaborate to make health and health care better for the communities we serve. Take advantage of this opportunity to grow personally and professionally.Submit your interest by 10:00 p.m. ET on February 27\, 2026 using the link below:👉 Submit Interest Form: MENTEE SURVEYSelected participants will receive confirmation of program participation and next steps the week of March 9th.  For more information\, please e-mail UniversityRelations@CVSHealth.com
URL:https://careerhub.unc.edu/event/cvs-health-student-mentorship-program-spring-2026/
END:VEVENT
BEGIN:VEVENT
DTSTART;TZID=America/New_York:20260302T190000
DTEND;TZID=America/New_York:20260420T190000
DTSTAMP:20260421T232434
CREATED:20260225T211416Z
LAST-MODIFIED:20260302T211533Z
UID:10002814-1772478000-1776711600@careerhub.unc.edu
SUMMARY:BCG Launch 2026
DESCRIPTION:BCG Launch is a virtual series for undergraduate and non-MBA master’s students to get an inside look at starting a consulting career at BCG. Sessions cover consulting fundamentals\, the Associate application process\, and life at BCG.  Whether you’re exploring consulting or just curious\, Launch is for you. Register now! Programming runs March 2 – April 20. 
URL:https://careerhub.unc.edu/event/bcg-launch-2026/
END:VEVENT
END:VCALENDAR